BEGIN:VCALENDAR
VERSION:2.0
PRODID:-//hacksw/handcal//NONSGML v1.0//EN
BEGIN:VEVENT
DTSTAMP:20170710T220000Z
DTSTART:20170710T220000Z
DTEND:20170710T220000Z
SUMMARY:Informationsveranstaltung Gemeinsames Dienstleistungszentrum
END:VEVENT
END:VCALENDAR
