BEGIN:VCALENDAR
VERSION:2.0
PRODID:-//hacksw/handcal//NONSGML v1.0//EN
BEGIN:VEVENT
DTSTAMP:20170704T220000Z
DTSTART:20170704T220000Z
DTEND:20170704T220000Z
SUMMARY:Informationsabend Amtsverband Arensharde
END:VEVENT
END:VCALENDAR
