BEGIN:VCALENDAR
VERSION:2.0
PRODID:-//hacksw/handcal//NONSGML v1.0//EN
BEGIN:VEVENT
DTSTAMP:20170630T220000Z
DTSTART:20170630T220000Z
DTEND:20170630T220000Z
SUMMARY:800 Jahr Feier Hemme
END:VEVENT
END:VCALENDAR
