BEGIN:VCALENDAR
VERSION:2.0
PRODID:-//hacksw/handcal//NONSGML v1.0//EN
BEGIN:VEVENT
DTSTAMP:20170625T220000Z
DTSTART:20170625T220000Z
DTEND:20170625T220000Z
SUMMARY:Vertreterversammlung der Raiffeisenbank Heide
END:VEVENT
END:VCALENDAR
