BEGIN:VCALENDAR
VERSION:2.0
PRODID:-//hacksw/handcal//NONSGML v1.0//EN
BEGIN:VEVENT
DTSTAMP:20170504T220000Z
DTSTART:20170504T220000Z
DTEND:20170504T220000Z
LOCATION:Eckernförde, Deutschland
SUMMARY:Bundeskanzlerin Angela Merkel  und Daniel Günther in Eckernförde
END:VEVENT
END:VCALENDAR
