BEGIN:VCALENDAR
VERSION:2.0
PRODID:-//hacksw/handcal//NONSGML v1.0//EN
BEGIN:VEVENT
DTSTAMP:20170502T220000Z
DTSTART:20170502T220000Z
DTEND:20170502T220000Z
LOCATION:Berufsbildungszentrum Meldorf, Friedrichshöferstraße 31, Meldorf, 25704, Deutschland
SUMMARY:Podiumsdiskussion im BBZ Meldorf
END:VEVENT
END:VCALENDAR
