BEGIN:VCALENDAR
VERSION:2.0
PRODID:-//hacksw/handcal//NONSGML v1.0//EN
BEGIN:VEVENT
DTSTAMP:20170501T220000Z
DTSTART:20170501T220000Z
DTEND:20170501T220000Z
SUMMARY:Harrislee - Veranstaltung mit Lothar de Maizère
END:VEVENT
END:VCALENDAR
