BEGIN:VCALENDAR
VERSION:2.0
PRODID:-//hacksw/handcal//NONSGML v1.0//EN
BEGIN:VEVENT
DTSTAMP:20170425T220000Z
DTSTART:20170425T220000Z
DTEND:20170425T220000Z
LOCATION:Gasthof Bandholz, Hauptstraße 6, Kropp, 24848, Deutschland
SUMMARY:SHZ  Podiumsdiskussion in Kropp
END:VEVENT
END:VCALENDAR
