BEGIN:VCALENDAR
VERSION:2.0
PRODID:-//hacksw/handcal//NONSGML v1.0//EN
BEGIN:VEVENT
DTSTAMP:20170420T120000Z
DTSTART:20170420T120000Z
DTEND:20170420T120000Z
LOCATION:Marktplatz, Markt, Heide, 25746, Deutschland
SUMMARY:Veranstaltung mit Peter Tauber MdB– Generalsekretär
END:VEVENT
END:VCALENDAR
