BEGIN:VCALENDAR
VERSION:2.0
PRODID:-//hacksw/handcal//NONSGML v1.0//EN
BEGIN:VEVENT
DTSTAMP:20170419T220000Z
DTSTART:20170419T220000Z
DTEND:20170419T220000Z
SUMMARY:Wochenmarkt Lunden
END:VEVENT
END:VCALENDAR
