BEGIN:VCALENDAR
VERSION:2.0
PRODID:-//hacksw/handcal//NONSGML v1.0//EN
BEGIN:VEVENT
DTSTAMP:20170422T130000Z
DTSTART:20170422T130000Z
DTEND:20170422T130000Z
LOCATION:E Center Frauen, Hamburger Straße 145, Heide, 25746, Deutschland
SUMMARY:E Center Frauen in Heide - Veranstaltung mit Daniel Günther
END:VEVENT
END:VCALENDAR
