BEGIN:VCALENDAR
VERSION:2.0
PRODID:-//hacksw/handcal//NONSGML v1.0//EN
BEGIN:VEVENT
DTSTAMP:20170315T230000Z
DTSTART:20170315T230000Z
DTEND:20170315T230000Z
LOCATION:Köster GmbH & Co. KG, Friedrichswerk 1, Lohe-Rickelshof, 25746, Deutschland
SUMMARY:Wirtschaftrat Schleswig Holstein bei Köster
END:VEVENT
END:VCALENDAR
