BEGIN:VCALENDAR
VERSION:2.0
PRODID:-//hacksw/handcal//NONSGML v1.0//EN
BEGIN:VEVENT
DTSTAMP:20170301T230000Z
DTSTART:20170301T230000Z
DTEND:20170301T230000Z
SUMMARY:Erst Essen, dann Schnacken in Dörpling
END:VEVENT
END:VCALENDAR
