BEGIN:VCALENDAR
VERSION:2.0
PRODID:-//hacksw/handcal//NONSGML v1.0//EN
BEGIN:VEVENT
DTSTAMP:20170414T220000Z
DTSTART:20170414T220000Z
DTEND:20170414T220000Z
LOCATION:Markt, Heide, 25746, Deutschland
SUMMARY:Canvassing  Marktplatz Heide Kreis CDU
END:VEVENT
END:VCALENDAR
