BEGIN:VCALENDAR
VERSION:2.0
PRODID:-//hacksw/handcal//NONSGML v1.0//EN
BEGIN:VEVENT
DTSTAMP:20170112T072000Z
DTSTART:20170112T072000Z
DTEND:20170112T072000Z
SUMMARY:Gem. Sitzung der Ausschüsse: Wirtschaft, Tourismus, Kultur und Soziales
END:VEVENT
END:VCALENDAR
