BEGIN:VCALENDAR
VERSION:2.0
PRODID:-//hacksw/handcal//NONSGML v1.0//EN
BEGIN:VEVENT
DTSTAMP:20161228T071500Z
DTSTART:20161228T071500Z
DTEND:20161228T071500Z
SUMMARY:Abstimmungsgespräch Wahlkampf
END:VEVENT
END:VCALENDAR
