BEGIN:VCALENDAR
VERSION:2.0
PRODID:-//hacksw/handcal//NONSGML v1.0//EN
BEGIN:VEVENT
DTSTAMP:20161219T230000Z
DTSTART:20161219T230000Z
DTEND:20161219T230000Z
LOCATION:Erfde, Deutschland
SUMMARY:CDU Erfde Punschabend
END:VEVENT
END:VCALENDAR
