BEGIN:VCALENDAR
VERSION:2.0
PRODID:-//hacksw/handcal//NONSGML v1.0//EN
BEGIN:VEVENT
DTSTAMP:20161218T230000Z
DTSTART:20161218T230000Z
DTEND:20161218T230000Z
SUMMARY:Präsentation Entree 100 Bürgerhaus
END:VEVENT
END:VCALENDAR
