BEGIN:VCALENDAR
VERSION:2.0
PRODID:-//hacksw/handcal//NONSGML v1.0//EN
BEGIN:VEVENT
DTSTAMP:20170203T230000Z
DTSTART:20170203T230000Z
DTEND:20170203T230000Z
LOCATION:Neumünster, Deutschland
SUMMARY:Landesparteitag / Landesvertreterversammlung Neumünster
END:VEVENT
END:VCALENDAR
