BEGIN:VCALENDAR
VERSION:2.0
PRODID:-//hacksw/handcal//NONSGML v1.0//EN
BEGIN:VEVENT
DTSTAMP:20170129T230000Z
DTSTART:20170129T230000Z
DTEND:20170130T230000Z
SUMMARY:Klausurtagung CDU Landtagsfraktion
END:VEVENT
END:VCALENDAR
