BEGIN:VCALENDAR
VERSION:2.0
PRODID:-//hacksw/handcal//NONSGML v1.0//EN
BEGIN:VEVENT
DTSTAMP:20170116T230000Z
DTSTART:20170116T230000Z
DTEND:20170116T230000Z
SUMMARY:Sitzung der Entwicklungsagenturen Region Heide und Region Rendsburg
END:VEVENT
END:VCALENDAR
