BEGIN:VCALENDAR
VERSION:2.0
PRODID:-//hacksw/handcal//NONSGML v1.0//EN
BEGIN:VEVENT
DTSTAMP:20170110T230000Z
DTSTART:20170110T230000Z
DTEND:20170110T230000Z
SUMMARY:Sitzung des Amtsverbandes Arensharde Silberstedt
END:VEVENT
END:VCALENDAR
