BEGIN:VCALENDAR
VERSION:2.0
PRODID:-//hacksw/handcal//NONSGML v1.0//EN
BEGIN:VEVENT
DTSTAMP:20161214T230000Z
DTSTART:20161214T230000Z
DTEND:20161214T230000Z
SUMMARY:Moderation des Eisstockschießen auf der Eisbahn Weihnachtsmarkt Heide
END:VEVENT
END:VCALENDAR
