BEGIN:VCALENDAR
VERSION:2.0
PRODID:-//hacksw/handcal//NONSGML v1.0//EN
BEGIN:VEVENT
DTSTAMP:20161204T230000Z
DTSTART:20161204T230000Z
DTEND:20161204T230000Z
SUMMARY:Gemeindevertretersitzung Hüsby
END:VEVENT
END:VCALENDAR
