BEGIN:VCALENDAR
VERSION:2.0
PRODID:-//hacksw/handcal//NONSGML v1.0//EN
BEGIN:VEVENT
DTSTAMP:20161126T230000Z
DTSTART:20161126T230000Z
DTEND:20161126T230000Z
SUMMARY:Eröffnungsgottesdienst Brot für die Welt – St. Jürgen Kirche Heide
END:VEVENT
END:VCALENDAR
