BEGIN:VCALENDAR
VERSION:2.0
PRODID:-//hacksw/handcal//NONSGML v1.0//EN
BEGIN:VEVENT
DTSTAMP:20161122T230000Z
DTSTART:20161122T230000Z
DTEND:20161122T230000Z
SUMMARY:Podiumsdiskussion in  Lieth – was wenn der Strom ausfällt…
END:VEVENT
END:VCALENDAR
