BEGIN:VCALENDAR
VERSION:2.0
PRODID:-//hacksw/handcal//NONSGML v1.0//EN
BEGIN:VEVENT
DTSTAMP:20161028T220000Z
DTSTART:20161028T220000Z
DTEND:20161029T220000Z
SUMMARY:Schleswig Holsteintag Husum
END:VEVENT
END:VCALENDAR
