BEGIN:VCALENDAR
VERSION:2.0
PRODID:-//hacksw/handcal//NONSGML v1.0//EN
BEGIN:VEVENT
DTSTAMP:20161010T220000Z
DTSTART:20161010T220000Z
DTEND:20161010T220000Z
SUMMARY:OV Arensharde
END:VEVENT
END:VCALENDAR
