BEGIN:VCALENDAR
VERSION:2.0
PRODID:-//hacksw/handcal//NONSGML v1.0//EN
BEGIN:VEVENT
DTSTAMP:20161009T220000Z
DTSTART:20161009T220000Z
DTEND:20161009T220000Z
SUMMARY:Aussussitzung Wirtschaft und Tourismus
END:VEVENT
END:VCALENDAR
