BEGIN:VCALENDAR
VERSION:2.0
PRODID:-//hacksw/handcal//NONSGML v1.0//EN
BEGIN:VEVENT
DTSTAMP:20161007T220000Z
DTSTART:20161007T220000Z
DTEND:20161007T220000Z
SUMMARY:Konferenz der Landtagskandidaten
END:VEVENT
END:VCALENDAR
